BEGIN:VCALENDAR
VERSION:2.0
PRODID:-//Gerblingerode - ECPv6.15.20//NONSGML v1.0//EN
CALSCALE:GREGORIAN
METHOD:PUBLISH
X-ORIGINAL-URL:https://www.gerblingerode.de
X-WR-CALDESC:Veranstaltungen für Gerblingerode
REFRESH-INTERVAL;VALUE=DURATION:PT1H
X-Robots-Tag:noindex
X-PUBLISHED-TTL:PT1H
BEGIN:VTIMEZONE
TZID:Europe/Helsinki
BEGIN:DAYLIGHT
TZOFFSETFROM:+0200
TZOFFSETTO:+0300
TZNAME:EEST
DTSTART:20200329T010000
END:DAYLIGHT
BEGIN:STANDARD
TZOFFSETFROM:+0300
TZOFFSETTO:+0200
TZNAME:EET
DTSTART:20201025T010000
END:STANDARD
BEGIN:DAYLIGHT
TZOFFSETFROM:+0200
TZOFFSETTO:+0300
TZNAME:EEST
DTSTART:20210328T010000
END:DAYLIGHT
BEGIN:STANDARD
TZOFFSETFROM:+0300
TZOFFSETTO:+0200
TZNAME:EET
DTSTART:20211031T010000
END:STANDARD
BEGIN:DAYLIGHT
TZOFFSETFROM:+0200
TZOFFSETTO:+0300
TZNAME:EEST
DTSTART:20220327T010000
END:DAYLIGHT
BEGIN:STANDARD
TZOFFSETFROM:+0300
TZOFFSETTO:+0200
TZNAME:EET
DTSTART:20221030T010000
END:STANDARD
END:VTIMEZONE
BEGIN:VEVENT
DTSTART;TZID=Europe/Helsinki:20211010T100000
DTEND;TZID=Europe/Helsinki:20211010T110000
DTSTAMP:20260420T051954
CREATED:20211005T093330Z
LAST-MODIFIED:20211005T093330Z
UID:1104-1633860000-1633863600@www.gerblingerode.de
SUMMARY:Wortgottesdienst mit der "Hasengrube"
DESCRIPTION:Wortgottesfeier mit der „Hasengrube“  Eine Wortgottesfeier „Vom Teilen und Danken“ feiern wir am Sonntag\, den 10.10. um 9.00 Uhr in unserer Kirche. Die musikalische und inhaltliche Gestaltung übernehmen die Eltern und Erzieherinnen der Kindergroßtagespflege „Hasengrube“\, die seit 2018 in den ehemaligen Räumen der Sparkasse in Gerblingerode beheimatet ist.  Allen Akteuren bereits jetzt ein herzliches „Vergelt’s Gott!“
URL:https://www.gerblingerode.de/event/wortgottesdienst-mit-der-hasengrube/
LOCATION:Kirche St. Maria Geburt
END:VEVENT
BEGIN:VEVENT
DTSTART;TZID=Europe/Helsinki:20211014T080000
DTEND;TZID=Europe/Helsinki:20211014T120000
DTSTAMP:20260420T051954
CREATED:20211005T090911Z
LAST-MODIFIED:20211005T090946Z
UID:1096-1634198400-1634212800@www.gerblingerode.de
SUMMARY:Abfuhr von Baum- und Strauchschnitt
DESCRIPTION:in Gerblingerode am 14.10.2021
URL:https://www.gerblingerode.de/event/abfuhr-von-baum-und-strauchschnitt/
END:VEVENT
BEGIN:VEVENT
DTSTART;TZID=Europe/Helsinki:20211028T150000
DTEND;TZID=Europe/Helsinki:20211028T163000
DTSTAMP:20260420T051954
CREATED:20211005T093117Z
LAST-MODIFIED:20211005T093117Z
UID:1102-1635433200-1635438600@www.gerblingerode.de
SUMMARY:Andacht auf dem Lindenberg - Gerblingeröder Klus
DESCRIPTION:Herzliche Einladung zur Andacht auf dem Lindenberg! Am Donnerstag\, den 28.10. feiern wir gemeinsam mit unserem Propst Thomas Berkefeld eine Andacht an der jetzigen Gebetsstätte und ursprünglichem Standplatz der Lindenbergkapelle auf dem Lindenberg. Das Gelände wurde in den vergangenen Wochen von unserem A–Team um Dieter Nörthemann neugestaltet. Beginn ist um 15.00 Uhr\, für Erfrischungen ist gesorgt. Fotos des neu gestalteten Geländes können auf der Homepage gerblingerode.de bereits jetzt angeschaut werden. (Weitere Infos entnehmen Sie bitte dem Schaukasten!)
URL:https://www.gerblingerode.de/event/andacht-auf-dem-lindenberg-gerblingeroeder-klus/
END:VEVENT
BEGIN:VEVENT
DTSTART;TZID=Europe/Helsinki:20211030T143000
DTEND;TZID=Europe/Helsinki:20211030T150000
DTSTAMP:20260420T051954
CREATED:20211005T092353Z
LAST-MODIFIED:20211005T093010Z
UID:1100-1635604200-1635606000@www.gerblingerode.de
SUMMARY:Gräbersegnungen
DESCRIPTION:
URL:https://www.gerblingerode.de/event/graebersegnungen/
LOCATION:Friedhof
END:VEVENT
END:VCALENDAR