BEGIN:VCALENDAR
VERSION:2.0
PRODID:-//Gerblingerode - ECPv6.15.20//NONSGML v1.0//EN
CALSCALE:GREGORIAN
METHOD:PUBLISH
X-ORIGINAL-URL:https://www.gerblingerode.de
X-WR-CALDESC:Veranstaltungen für Gerblingerode
REFRESH-INTERVAL;VALUE=DURATION:PT1H
X-Robots-Tag:noindex
X-PUBLISHED-TTL:PT1H
BEGIN:VTIMEZONE
TZID:Europe/Helsinki
BEGIN:DAYLIGHT
TZOFFSETFROM:+0200
TZOFFSETTO:+0300
TZNAME:EEST
DTSTART:20200329T010000
END:DAYLIGHT
BEGIN:STANDARD
TZOFFSETFROM:+0300
TZOFFSETTO:+0200
TZNAME:EET
DTSTART:20201025T010000
END:STANDARD
BEGIN:DAYLIGHT
TZOFFSETFROM:+0200
TZOFFSETTO:+0300
TZNAME:EEST
DTSTART:20210328T010000
END:DAYLIGHT
BEGIN:STANDARD
TZOFFSETFROM:+0300
TZOFFSETTO:+0200
TZNAME:EET
DTSTART:20211031T010000
END:STANDARD
BEGIN:DAYLIGHT
TZOFFSETFROM:+0200
TZOFFSETTO:+0300
TZNAME:EEST
DTSTART:20220327T010000
END:DAYLIGHT
BEGIN:STANDARD
TZOFFSETFROM:+0300
TZOFFSETTO:+0200
TZNAME:EET
DTSTART:20221030T010000
END:STANDARD
END:VTIMEZONE
BEGIN:VEVENT
DTSTART;TZID=Europe/Helsinki:20210511T190000
DTEND;TZID=Europe/Helsinki:20210511T210000
DTSTAMP:20260420T153610
CREATED:20210518T194823Z
LAST-MODIFIED:20210518T194824Z
UID:913-1620759600-1620766800@www.gerblingerode.de
SUMMARY:16. Ortsratssitzung
DESCRIPTION:
URL:https://www.gerblingerode.de/event/16-ortsratssitzung/
LOCATION:Sporthalle
END:VEVENT
BEGIN:VEVENT
DTSTART;VALUE=DATE:20210512
DTEND;VALUE=DATE:20210513
DTSTAMP:20260420T153610
CREATED:20210518T194347Z
LAST-MODIFIED:20210518T194347Z
UID:910-1620777600-1620863999@www.gerblingerode.de
SUMMARY:Eröffnung Café & Bäckerei mannamia
DESCRIPTION:
URL:https://www.gerblingerode.de/event/eroeffnung-cafe-baeckerei-mannamia/
END:VEVENT
BEGIN:VEVENT
DTSTART;TZID=Europe/Helsinki:20210515T120000
DTEND;TZID=Europe/Helsinki:20210515T150000
DTSTAMP:20260420T153610
CREATED:20210518T193826Z
LAST-MODIFIED:20210518T193826Z
UID:908-1621080000-1621090800@www.gerblingerode.de
SUMMARY:Frühjahrsputz 2021
DESCRIPTION:Hauptaktionstag der Freiwilligen Feuerwehr
URL:https://www.gerblingerode.de/event/fruehjahrsputz-2021/
END:VEVENT
BEGIN:VEVENT
DTSTART;TZID=Europe/Helsinki:20210531T083000
DTEND;TZID=Europe/Helsinki:20210531T100000
DTSTAMP:20260420T153610
CREATED:20210518T195701Z
LAST-MODIFIED:20210518T195933Z
UID:921-1622449800-1622455200@www.gerblingerode.de
SUMMARY:Überprüfung der Grabsteine auf Standsicherheit
DESCRIPTION:Alljährlich müssen die Grabsteine auf den städtischen Friedhöfen gemäß den Unfallverhütungsvorschriften auf ihre Standsicherheit überprüft werden. Diese Überprüfungsarbeiten werden auf dem Ortsteilfriedhof am 31.05.2021 von den Mitarbeitern des städtischen Bauhofs durchgeführt.
URL:https://www.gerblingerode.de/event/ueberpruefung-der-grabsteine-auf-standsicherheit/
LOCATION:Friedhof
END:VEVENT
END:VCALENDAR