BEGIN:VCALENDAR
VERSION:2.0
PRODID:-//Gerblingerode - ECPv6.15.20//NONSGML v1.0//EN
CALSCALE:GREGORIAN
METHOD:PUBLISH
X-ORIGINAL-URL:https://www.gerblingerode.de
X-WR-CALDESC:Veranstaltungen für Gerblingerode
REFRESH-INTERVAL;VALUE=DURATION:PT1H
X-Robots-Tag:noindex
X-PUBLISHED-TTL:PT1H
BEGIN:VTIMEZONE
TZID:Europe/Helsinki
BEGIN:DAYLIGHT
TZOFFSETFROM:+0200
TZOFFSETTO:+0300
TZNAME:EEST
DTSTART:20210328T010000
END:DAYLIGHT
BEGIN:STANDARD
TZOFFSETFROM:+0300
TZOFFSETTO:+0200
TZNAME:EET
DTSTART:20211031T010000
END:STANDARD
BEGIN:DAYLIGHT
TZOFFSETFROM:+0200
TZOFFSETTO:+0300
TZNAME:EEST
DTSTART:20220327T010000
END:DAYLIGHT
BEGIN:STANDARD
TZOFFSETFROM:+0300
TZOFFSETTO:+0200
TZNAME:EET
DTSTART:20221030T010000
END:STANDARD
BEGIN:DAYLIGHT
TZOFFSETFROM:+0200
TZOFFSETTO:+0300
TZNAME:EEST
DTSTART:20230326T010000
END:DAYLIGHT
BEGIN:STANDARD
TZOFFSETFROM:+0300
TZOFFSETTO:+0200
TZNAME:EET
DTSTART:20231029T010000
END:STANDARD
END:VTIMEZONE
BEGIN:VEVENT
DTSTART;TZID=Europe/Helsinki:20220624T130000
DTEND;TZID=Europe/Helsinki:20220625T180000
DTSTAMP:20260419T172804
CREATED:20220325T090625Z
LAST-MODIFIED:20220325T090625Z
UID:1365-1656075600-1656180000@www.gerblingerode.de
SUMMARY:Jubiläum SV Viktoria Gerblingerode
DESCRIPTION:110 Jahre Sportverein SV Viktoria Gerblingerode e. V. \n& 100 Jahre Fußballsparte \n  \nFreitag\, der 24.06.2022 \nEin AH – Turnier mit 4 – 6 Mannschaften (Ü 50 + 2 jüngere OS) im Kleinfeldmodus  \n  \nSamstag\, der 25.06.2022 \nEinlagespiele 1. und 2 Herrenmannschaft um ca. 13.30 Uhr und 15.00 Uhr  \nFestakt zum Jubiläum ab 18.00 Uhr
URL:https://www.gerblingerode.de/event/jubilaeum-sv-viktoria-gerblingerode/
LOCATION:Sportplatz
END:VEVENT
END:VCALENDAR