BEGIN:VCALENDAR
VERSION:2.0
PRODID:-//Gerblingerode - ECPv6.15.20//NONSGML v1.0//EN
CALSCALE:GREGORIAN
METHOD:PUBLISH
X-ORIGINAL-URL:https://www.gerblingerode.de
X-WR-CALDESC:Veranstaltungen für Gerblingerode
REFRESH-INTERVAL;VALUE=DURATION:PT1H
X-Robots-Tag:noindex
X-PUBLISHED-TTL:PT1H
BEGIN:VTIMEZONE
TZID:Europe/Helsinki
BEGIN:DAYLIGHT
TZOFFSETFROM:+0200
TZOFFSETTO:+0300
TZNAME:EEST
DTSTART:20210328T010000
END:DAYLIGHT
BEGIN:STANDARD
TZOFFSETFROM:+0300
TZOFFSETTO:+0200
TZNAME:EET
DTSTART:20211031T010000
END:STANDARD
BEGIN:DAYLIGHT
TZOFFSETFROM:+0200
TZOFFSETTO:+0300
TZNAME:EEST
DTSTART:20220327T010000
END:DAYLIGHT
BEGIN:STANDARD
TZOFFSETFROM:+0300
TZOFFSETTO:+0200
TZNAME:EET
DTSTART:20221030T010000
END:STANDARD
BEGIN:DAYLIGHT
TZOFFSETFROM:+0200
TZOFFSETTO:+0300
TZNAME:EEST
DTSTART:20230326T010000
END:DAYLIGHT
BEGIN:STANDARD
TZOFFSETFROM:+0300
TZOFFSETTO:+0200
TZNAME:EET
DTSTART:20231029T010000
END:STANDARD
END:VTIMEZONE
BEGIN:VEVENT
DTSTART;TZID=Europe/Helsinki:20220115T080000
DTEND;TZID=Europe/Helsinki:20220115T100000
DTSTAMP:20260420T015313
CREATED:20220105T153558Z
LAST-MODIFIED:20220105T153558Z
UID:1281-1642233600-1642240800@www.gerblingerode.de
SUMMARY:Weihnachtsbaumabholung
DESCRIPTION:Unser Sportverein SV Viktoria Gerblingerode sammelt auch dies Jahr wieder die Weihnachtsbäume ein. \nAm Samstag\, den 15. Januar 2022. \nBitte bis dahin die Bäume abholbereit an die Grundstücksgrenze legen. \nEine kleine Spende ist wünschenswert und macht den Sportskameraden eine Freude! \n  \nWer den Termin verpasst\, hat noch die Möglichkeit seinen Baum eigenständig zur Sammelstelle auf dem ehmenaligen Grenzparkplatz (hinterer Bereich) bis spätestens zum 20.01.2022 zu bringen. \nDie Abfahrt hat der Landkreisd Göttingen auf Freitag\, den 21. Januar 2022 terminiert. \n 
URL:https://www.gerblingerode.de/event/weihnachtsbaumabholung/
END:VEVENT
END:VCALENDAR