BEGIN:VCALENDAR
VERSION:2.0
PRODID:-//Gerblingerode - ECPv6.15.20//NONSGML v1.0//EN
CALSCALE:GREGORIAN
METHOD:PUBLISH
X-WR-CALNAME:Gerblingerode
X-ORIGINAL-URL:https://www.gerblingerode.de
X-WR-CALDESC:Veranstaltungen für Gerblingerode
REFRESH-INTERVAL;VALUE=DURATION:PT1H
X-Robots-Tag:noindex
X-PUBLISHED-TTL:PT1H
BEGIN:VTIMEZONE
TZID:Europe/Helsinki
BEGIN:DAYLIGHT
TZOFFSETFROM:+0200
TZOFFSETTO:+0300
TZNAME:EEST
DTSTART:20200329T010000
END:DAYLIGHT
BEGIN:STANDARD
TZOFFSETFROM:+0300
TZOFFSETTO:+0200
TZNAME:EET
DTSTART:20201025T010000
END:STANDARD
BEGIN:DAYLIGHT
TZOFFSETFROM:+0200
TZOFFSETTO:+0300
TZNAME:EEST
DTSTART:20210328T010000
END:DAYLIGHT
BEGIN:STANDARD
TZOFFSETFROM:+0300
TZOFFSETTO:+0200
TZNAME:EET
DTSTART:20211031T010000
END:STANDARD
BEGIN:DAYLIGHT
TZOFFSETFROM:+0200
TZOFFSETTO:+0300
TZNAME:EEST
DTSTART:20220327T010000
END:DAYLIGHT
BEGIN:STANDARD
TZOFFSETFROM:+0300
TZOFFSETTO:+0200
TZNAME:EET
DTSTART:20221030T010000
END:STANDARD
END:VTIMEZONE
BEGIN:VEVENT
DTSTART;TZID=Europe/Helsinki:20211128T153000
DTEND;TZID=Europe/Helsinki:20211128T180000
DTSTAMP:20260420T051535
CREATED:20211106T104143Z
LAST-MODIFIED:20211106T104143Z
UID:1127-1638113400-1638122400@www.gerblingerode.de
SUMMARY:Andacht zum 1. Advent & "Advent unterm Baum"
DESCRIPTION:
URL:https://www.gerblingerode.de/event/andacht-zum-1-advent-advent-unterm-baum/
LOCATION:Kirche St. Maria Geburt
END:VEVENT
END:VCALENDAR