BEGIN:VCALENDAR
VERSION:2.0
PRODID:-//Gerblingerode - ECPv6.15.20//NONSGML v1.0//EN
CALSCALE:GREGORIAN
METHOD:PUBLISH
X-ORIGINAL-URL:https://www.gerblingerode.de
X-WR-CALDESC:Veranstaltungen für Gerblingerode
REFRESH-INTERVAL;VALUE=DURATION:PT1H
X-Robots-Tag:noindex
X-PUBLISHED-TTL:PT1H
BEGIN:VTIMEZONE
TZID:Europe/Helsinki
BEGIN:DAYLIGHT
TZOFFSETFROM:+0200
TZOFFSETTO:+0300
TZNAME:EEST
DTSTART:20200329T010000
END:DAYLIGHT
BEGIN:STANDARD
TZOFFSETFROM:+0300
TZOFFSETTO:+0200
TZNAME:EET
DTSTART:20201025T010000
END:STANDARD
BEGIN:DAYLIGHT
TZOFFSETFROM:+0200
TZOFFSETTO:+0300
TZNAME:EEST
DTSTART:20210328T010000
END:DAYLIGHT
BEGIN:STANDARD
TZOFFSETFROM:+0300
TZOFFSETTO:+0200
TZNAME:EET
DTSTART:20211031T010000
END:STANDARD
BEGIN:DAYLIGHT
TZOFFSETFROM:+0200
TZOFFSETTO:+0300
TZNAME:EEST
DTSTART:20220327T010000
END:DAYLIGHT
BEGIN:STANDARD
TZOFFSETFROM:+0300
TZOFFSETTO:+0200
TZNAME:EET
DTSTART:20221030T010000
END:STANDARD
END:VTIMEZONE
BEGIN:VEVENT
DTSTART;TZID=Europe/Helsinki:20211110T163000
DTEND;TZID=Europe/Helsinki:20211110T200000
DTSTAMP:20260420T050652
CREATED:20211106T103256Z
LAST-MODIFIED:20211106T105919Z
UID:1124-1636561800-1636574400@www.gerblingerode.de
SUMMARY:Martinssingen
DESCRIPTION:Liebe Gerblingeröderinnen und Gerblingeröder\, \nleider macht Corona auch in diesem Jahr eine Andacht in der Kirche und einen Martinsumzug unmöglich. \nIch bitte um Ihr Verständnis! \nUnser Kirchengemeinderat hat sich aber eine wirklich tolle Idee als Alternative überlegt. Bitte machen Sie mit und beteiligen Sie sich an dieser Aktion. Unsere Kinder sind die größten Leidtragenden in dieser Pandemie. Bitte lassen Sie uns gemeinsam unseren Kindern eine kleine Freude machen und öffenen Sie Ihre Herzen und Türen. Was gibt es schöneres als strahlende Kinderaugen! \nVielen Dank für Ihr Mitmachen! \n  \nIhr \nChristian Wüstefeld \nOrtsbürgermeister
URL:https://www.gerblingerode.de/event/martinssingen/
END:VEVENT
END:VCALENDAR